View In:
ArcGIS JavaScript
ArcGIS Online Map Viewer
ArcGIS Earth
Service Description: Imagery/CDAImagery2021_Clip
Name: Imagery/CDAImagery2021_Clip
Description:
Single Fused Map Cache: false
Extent:
XMin: 2349114.0
YMin: 2177538.5
XMax: 2388173.0
YMax: 2233789.0
Spatial Reference: 102670
(2243)
LatestVCSWkid(0)
Initial Extent:
XMin: 2349114.0
YMin: 2177538.5
XMax: 2388173.0
YMax: 2233789.0
Spatial Reference: 102670
(2243)
LatestVCSWkid(0)
Full Extent:
XMin: 2349114.0
YMin: 2177538.5
XMax: 2388173.0
YMax: 2233789.0
Spatial Reference: 102670
(2243)
LatestVCSWkid(0)
Pixel Size X: 0.5
Pixel Size Y: 0.5
Band Count: 3
Pixel Type: U8
RasterFunction Infos: {"rasterFunctionInfos": [{
"name": "None",
"description": "",
"help": ""
}]}
Mensuration Capabilities: Basic
Inspection Capabilities:
Has Histograms: true
Has Colormap: false
Has Multi Dimensions : false
Rendering Rule:
Min Scale: 0
Max Scale: 0
Copyright Text:
Service Data Type: esriImageServiceDataTypeProcessed
Min Values: 0, 0, 0
Max Values: 255, 255, 255
Mean Values: 114.00992264521341, 116.15252585950996, 101.1718977545299
Standard Deviation Values: 53.35109645568562, 42.58924051895451, 35.87134333660711
Object ID Field:
Fields:
None
Default Mosaic Method: Center
Allowed Mosaic Methods:
SortField:
SortValue: null
Mosaic Operator: First
Default Compression Quality: 75
Default Resampling Method: Bilinear
Max Record Count: null
Max Image Height: 4100
Max Image Width: 15000
Max Download Image Count: null
Max Mosaic Image Count: null
Allow Raster Function: true
Allow Copy: true
Allow Analysis: true
Allow Compute TiePoints: false
Supports Statistics: false
Supports Advanced Queries: false
Use StandardizedQueries: true
Raster Type Infos:
Name: Raster Dataset
Description: Supports all ArcGIS Raster Datasets
Help:
Has Raster Attribute Table: false
Edit Fields Info: null
Ownership Based AccessControl For Rasters: null
Child Resources:
Info
Histograms
Statistics
Key Properties
Legend
Raster Function Infos
Supported Operations:
Export Image
Identify
Measure
Compute Histograms
Compute Statistics Histograms
Get Samples
Compute Class Statistics
Query Boundary
Compute Pixel Location
Compute Angles
Validate
Project