{
 "currentVersion": 11.2,
 "serviceDescription": "Imagery/CDAImagery2021_Clip",
 "name": "Imagery/CDAImagery2021_Clip",
 "description": "",
 "extent": {
  "xmin": 2349114,
  "ymin": 2177538.5,
  "xmax": 2388173,
  "ymax": 2233789,
  "spatialReference": {
   "wkid": 102670,
   "latestWkid": 2243
  }
 },
 "initialExtent": {
  "xmin": 2349114,
  "ymin": 2177538.5,
  "xmax": 2388173,
  "ymax": 2233789,
  "spatialReference": {
   "wkid": 102670,
   "latestWkid": 2243
  }
 },
 "fullExtent": {
  "xmin": 2349114,
  "ymin": 2177538.5,
  "xmax": 2388173,
  "ymax": 2233789,
  "spatialReference": {
   "wkid": 102670,
   "latestWkid": 2243
  }
 },
 "sortableFields": "",
 "bandCount": 3,
 "pixelType": "U8",
 "minValues": [
  0,
  0,
  0
 ],
 "maxValues": [
  255,
  255,
  255
 ],
 "meanValues": [
  114.00992264521341,
  116.15252585950996,
  101.1718977545299
 ],
 "stdvValues": [
  53.35109645568562,
  42.58924051895451,
  35.87134333660711
 ],
 "hasMultidimensions": false,
 "pixelSizeX": 0.5,
 "pixelSizeY": 0.5,
 "meanPixelSize": 0.15240030480060962,
 "datasetFormat": "FGDBR",
 "uncompressedSize": 26365059354,
 "blockWidth": 128,
 "blockHeight": 128,
 "compressionType": "LZ77",
 "bandNames": [
  "Band_1",
  "Band_2",
  "Band_3"
 ],
 "allowCopy": true,
 "allowAnalysis": true,
 "itemAccess": false,
 "inspectionCapabilities": "",
 "minPixelSize": 0,
 "maxPixelSize": 0,
 "copyrightText": "",
 "serviceDataType": "esriImageServiceDataTypeProcessed",
 "serviceSourceType": "esriImageServiceSourceTypeDataset",
 "objectIdField": "",
 "fields": [],
 "capabilities": "Image,Metadata,Mensuration",
 "defaultMosaicMethod": "Center",
 "allowedMosaicMethods": "",
 "sortField": "",
 "sortValue": null,
 "sortAscending": true,
 "mosaicOperator": "First",
 "defaultCompressionQuality": 75,
 "defaultResamplingMethod": "Bilinear",
 "maxImageHeight": 4100,
 "maxImageWidth": 15000,
 "allowRasterFunction": true,
 "rasterFunctionInfos": [
  {
   "name": "None",
   "description": "",
   "help": ""
  }
 ],
 "rasterTypeInfos": [
  {
   "name": "Raster Dataset",
   "description": "Supports all ArcGIS Raster Datasets",
   "help": ""
  }
 ],
 "mensurationCapabilities": "Basic",
 "hasHistograms": true,
 "hasColormap": false,
 "hasRasterAttributeTable": false,
 "minScale": 0,
 "maxScale": 0,
 "exportTilesAllowed": false,
 "supportsStatistics": false,
 "supportsAdvancedQueries": false,
 "editFieldsInfo": null,
 "ownershipBasedAccessControlForRasters": null,
 "allowComputeTiePoints": false,
 "useStandardizedQueries": true,
 "advancedQueryCapabilities": {
  "useStandardizedQueries": true,
  "supportsStatistics": false,
  "supportsOrderBy": false,
  "supportsDistinct": false,
  "supportsPagination": false
 },
 "spatialReference": {
  "wkid": 102670,
  "latestWkid": 2243
 }
}
