View In:
ArcGIS JavaScript
ArcGIS Online Map Viewer
ArcGIS Earth
Service Description: Imagery/AirPhotos2017
Name: Imagery/AirPhotos2017
Description:
Single Fused Map Cache: false
Extent:
XMin: 494966.0
YMin: 5239580.0
XMax: 552214.0
YMax: 5316736.0
Spatial Reference: 26911
(26911)
LatestVCSWkid(0)
Initial Extent:
XMin: 494966.0
YMin: 5239580.0
XMax: 552214.0
YMax: 5316736.0
Spatial Reference: 26911
(26911)
LatestVCSWkid(0)
Full Extent:
XMin: 494966.0
YMin: 5239580.0
XMax: 552214.0
YMax: 5316736.0
Spatial Reference: 26911
(26911)
LatestVCSWkid(0)
Pixel Size X: 1.0
Pixel Size Y: 1.0
Band Count: 3
Pixel Type: U8
RasterFunction Infos: {"rasterFunctionInfos": [{
"name": "None",
"description": "",
"help": ""
}]}
Mensuration Capabilities: Basic
Inspection Capabilities:
Has Histograms: true
Has Colormap: false
Has Multi Dimensions : false
Rendering Rule:
Min Scale: 0
Max Scale: 0
Copyright Text:
Service Data Type: esriImageServiceDataTypeRGB
Min Values: 0, 0, 0
Max Values: 202, 185, 159
Mean Values: 47.864426691729, 58.880169172932, 55.230498120301
Standard Deviation Values: 38.60490898445, 32.39992141179, 27.688277566535
Object ID Field:
Fields:
None
Default Mosaic Method: Center
Allowed Mosaic Methods:
SortField:
SortValue: null
Mosaic Operator: First
Default Compression Quality: 75
Default Resampling Method: Bilinear
Max Record Count: null
Max Image Height: 4100
Max Image Width: 15000
Max Download Image Count: null
Max Mosaic Image Count: null
Allow Raster Function: true
Allow Copy: true
Allow Analysis: true
Allow Compute TiePoints: false
Supports Statistics: false
Supports Advanced Queries: false
Use StandardizedQueries: true
Raster Type Infos:
Name: Raster Dataset
Description: Supports all ArcGIS Raster Datasets
Help:
Has Raster Attribute Table: false
Edit Fields Info: null
Ownership Based AccessControl For Rasters: null
Child Resources:
Info
Histograms
Statistics
Key Properties
Legend
Raster Function Infos
Supported Operations:
Export Image
Identify
Measure
Compute Histograms
Compute Statistics Histograms
Get Samples
Compute Class Statistics
Query Boundary
Compute Pixel Location
Compute Angles
Validate
Project